BEGIN:VCALENDAR
VERSION:2.0
PRODID:-//Tukios.com/
BEGIN:VEVENT
UID:d6e4339a-c507-4d61-9c15-8e5737ca6e76@www.carrowayfuneralhome.com
DTSTAMP:20260425T211847Z
DTSTART:20260427T000000Z
DTEND:20260427T010000Z
SUMMARY:Rosary
DESCRIPTION:
URL:https://www.carrowayfuneralhome.com/obituaries/rosalinda-lazcano-bernal
LOCATION: 204 E Front St  Corrigan TX 75939
GEO:30.9989334;-94.8254841
END:VEVENT
END:VCALENDAR