BEGIN:VCALENDAR
VERSION:2.0
PRODID:-//Tukios.com/
BEGIN:VEVENT
UID:5c36034f-e388-4b97-a479-1eb28a379c32@www.carrowayfuneralhome.com
DTSTAMP:20260425T211831Z
DTSTART:20260426T230000Z
DTEND:20260427T013000Z
SUMMARY:Visitation
DESCRIPTION:
URL:https://www.carrowayfuneralhome.com/obituaries/rosalinda-lazcano-bernal
LOCATION: 204 E Front St  Corrigan TX 75939
GEO:30.9989334;-94.8254841
END:VEVENT
END:VCALENDAR