BEGIN:VCALENDAR
VERSION:2.0
PRODID:-//Tukios.com/
BEGIN:VEVENT
UID:f6078586-2168-4647-8d51-9f0c4ef4ab02@www.carrowayfuneralhome.com
DTSTAMP:20260425T211555Z
DTSTART:20260427T160000Z
DTEND:20260427T170000Z
SUMMARY:Mass
DESCRIPTION:
URL:https://www.carrowayfuneralhome.com/obituaries/rosalinda-lazcano-bernal
LOCATION:St. Martin de Porres Catholic Church 1001 East Second Street  
	Corrigan TX 75939
GEO:30.9939223;-94.8098302
END:VEVENT
END:VCALENDAR