BEGIN:VCALENDAR
VERSION:2.0
PRODID:-//Tukios.com/
BEGIN:VEVENT
UID:c8e5f81b-d3ab-443c-88e3-d9b93b38dea8@www.carrowayfuneralhome.com
DTSTAMP:20260422T184329Z
DTSTART:20260424T180000Z
DTEND:20260424T190000Z
SUMMARY:Visitation
DESCRIPTION:
URL:https://www.carrowayfuneralhome.com/obituaries/roland-brock
LOCATION: Narraway Loop  Lufkin TX 75904
GEO:31.281061;-94.8516486
END:VEVENT
END:VCALENDAR