BEGIN:VCALENDAR
VERSION:2.0
PRODID:-//Tukios.com/
BEGIN:VEVENT
UID:6c7d5688-6f10-488d-8823-e845a3df77a0@www.carrowayfuneralhome.com
DTSTAMP:20260422T184837Z
DTSTART:20260424T190000Z
DTEND:20260424T200000Z
SUMMARY:Graveside Service
DESCRIPTION:
URL:https://www.carrowayfuneralhome.com/obituaries/roland-brock
LOCATION:Narrow Way Cemetery Narraway Loop  Lufkin TX 75904
GEO:31.281061;-94.8516486
END:VEVENT
END:VCALENDAR