BEGIN:VCALENDAR
VERSION:2.0
PRODID:-//Tukios.com/
BEGIN:VEVENT
UID:a21d8f3a-cb67-4487-84a0-8a559c227031@www.carrowayfuneralhome.com
DTSTAMP:20260421T023217Z
DTSTART:20260422T190000Z
DTEND:20260422T200000Z
SUMMARY:Funeral Service
DESCRIPTION:
URL:https://www.carrowayfuneralhome.com/obituaries/jerry-clowers
LOCATION:Shawnee Church of Jesus Christ 15389 U.S. 69  Huntington TX 
	75949
GEO:31.2263122;-94.5237369
END:VEVENT
END:VCALENDAR