BEGIN:VCALENDAR
VERSION:2.0
PRODID:-//Tukios.com/
BEGIN:VEVENT
UID:4c91502c-39d8-49b7-aca3-5508bfdd04f4@www.carrowayfuneralhome.com
DTSTAMP:20260421T023645Z
DTSTART:20260422T180000Z
DTEND:20260422T190000Z
SUMMARY:Visitation
DESCRIPTION:
URL:https://www.carrowayfuneralhome.com/obituaries/jerry-clowers
LOCATION:Shawnee Church of Jesus Christ 15389 U.S. 69  Huntington TX 
	75949
GEO:31.2263122;-94.5237369
END:VEVENT
END:VCALENDAR