BEGIN:VCALENDAR
VERSION:2.0
PRODID:-//Tukios.com/
BEGIN:VEVENT
UID:86f3b827-957c-4434-9abd-267e599ceae9@www.carrowayfuneralhome.com
DTSTAMP:20260421T024131Z
DTSTART:20260423T150000Z
DTEND:20260423T160000Z
SUMMARY:Funeral Service
DESCRIPTION:
URL:https://www.carrowayfuneralhome.com/obituaries/helen-nerren
LOCATION: 2704 S John Redditt Dr  Lufkin TX 75904
GEO:31.3070795;-94.7369011
END:VEVENT
END:VCALENDAR