BEGIN:VCALENDAR
VERSION:2.0
PRODID:-//Tukios.com/
BEGIN:VEVENT
UID:d18ee626-672b-4a87-98d1-5b01a87234a1@www.carrowayfuneralhome.com
DTSTAMP:20260425T013713Z
DTSTART:20260502T150000Z
DTEND:20260502T160000Z
SUMMARY:Funeral Service
DESCRIPTION:
URL:https://www.carrowayfuneralhome.com/obituaries/gerald-glover
LOCATION:Denman Avenue Baptist Church 1807 East Denman Avenue  Lufkin TX 
	75901
GEO:31.3204767;-94.7011773
END:VEVENT
END:VCALENDAR