BEGIN:VCALENDAR
VERSION:2.0
PRODID:-//Tukios.com/
BEGIN:VEVENT
UID:b610750c-c8b5-4feb-92da-a72b5fc9c326@www.carrowayfuneralhome.com
DTSTAMP:20260425T013517Z
DTSTART:20260501T220000Z
DTEND:20260502T000000Z
SUMMARY:Visitation
DESCRIPTION:
URL:https://www.carrowayfuneralhome.com/obituaries/gerald-glover
LOCATION:Denman Avenue Baptist Church 1807 East Denman Avenue  Lufkin TX 
	75901
GEO:31.3204767;-94.7011773
END:VEVENT
END:VCALENDAR