BEGIN:VCALENDAR
VERSION:2.0
PRODID:-//Tukios.com/
BEGIN:VEVENT
UID:c51fb4e9-8f1f-4a13-ad21-37a7f1ed8d3e@www.carrowayfuneralhome.com
DTSTAMP:20260422T215031Z
DTSTART:20260425T230000Z
DTEND:20260426T010000Z
SUMMARY:Visitation
DESCRIPTION:
URL:https://www.carrowayfuneralhome.com/obituaries/elton-powell
LOCATION: 2704 S John Redditt Dr  Lufkin TX 75904
GEO:31.3070795;-94.7369011
END:VEVENT
END:VCALENDAR