BEGIN:VCALENDAR
VERSION:2.0
PRODID:-//Tukios.com/
BEGIN:VEVENT
UID:a83880cf-f6d3-42e1-bb49-1612c748db89@www.carrowayfuneralhome.com
DTSTAMP:20260422T215117Z
DTSTART:20260426T190000Z
DTEND:20260426T200000Z
SUMMARY:Graveside Service
DESCRIPTION:
URL:https://www.carrowayfuneralhome.com/obituaries/elton-powell
LOCATION:Sand Flat Cemetery    Pollok TX 75969
GEO:31.467389;-94.8728093
END:VEVENT
END:VCALENDAR